View In:
ArcGIS JavaScript
ArcGIS Online Map Viewer
ArcGIS Earth
ArcGIS Pro
Service Description: <div style='font-family:"Avenir Next W01", "Avenir Next W00", "Avenir Next", Avenir, "Helvetica Neue", sans-serif; font-size:16px;'><div style='margin-bottom:3rem;'><div><div style='max-width:100%; display:inherit;'>* Camada referente as informações contidas no mapa de cobertura vegetal do DF. O mapa de cobertura vegetal do DF foi dissolvido em 15 camadas descriminadas dentro do item "Mapa de cobertura vegetal"</div><div><br /></div></div></div></div><div style='font-family:"Avenir Next W01", "Avenir Next W00", "Avenir Next", Avenir, "Helvetica Neue", sans-serif; font-size:16px;'></div><div style='margin-bottom:3rem; display:inherit; font-family:"Avenir Next W01", "Avenir Next W00", "Avenir Next", Avenir, "Helvetica Neue", sans-serif; font-size:16px;'><div style='margin-bottom:3rem; display:inherit;'></div></div>
Map Name: Map
Legend
All Layers and Tables
Dynamic Legend
Dynamic All Layers
Layers:
Description:
Service Item Id: 3dd90f7da60f491b9035bb19aff482ee
Copyright Text:
Spatial Reference:
102100
(3857)
LatestVCSWkid(0)
Single Fused Map Cache: true
Tile Info:
- Height: 256.0
- Width: 256.0
- DPI: 96.0
-
Levels of Detail: 24
-
Level ID: 1
[ Start Tile, End Tile ]
- Resolution: 78271.5169639999
- Scale: 2.95828763795777E8
-
Level ID: 2
[ Start Tile, End Tile ]
- Resolution: 39135.7584820001
- Scale: 1.47914381897889E8
-
Level ID: 3
[ Start Tile, End Tile ]
- Resolution: 19567.8792409999
- Scale: 7.3957190948944E7
-
Level ID: 4
[ Start Tile, End Tile ]
- Resolution: 9783.93962049996
- Scale: 3.6978595474472E7
-
Level ID: 5
[ Start Tile, End Tile ]
- Resolution: 4891.96981024998
- Scale: 1.8489297737236E7
- Format: PNG
- Compression Quality: 0.0
- Origin: X: -2.0037508342787E7
Y: 2.0037508342787E7
- Spatial Reference: 102100
(3857)
LatestVCSWkid(0)
Storage Info:
- Storage Format: esriMapCacheStorageModeCompactV2
- Packet Size: 128
Initial Extent:
XMin: -5380589.337215001
YMin: -1815610.994661887
XMax: -5261167.044885
YMax: -1742049.6211381138
Spatial Reference: 102100
(0)
LatestVCSWkid(0)
Full Extent:
XMin: -5375161.051200001
YMin: -1810555.3731999993
XMax: -5266595.3309
YMax: -1747105.2426000014
Spatial Reference: 102100
(0)
LatestVCSWkid(0)
Units: esriMeters
Supported Image Format Types: PNG32,PNG24,PNG,JPG,DIB,TIFF,EMF,PS,PDF,GIF,SVG,SVGZ,BMP
Document Info:
Title: C:\Users\ana.pontes\AppData\Local\Temp\ArcGISProTemp30692\849b654f-dbbf-4754-b43c-1cdd0aecddf3\Untitled.aprx
Author:
Comments:
Subject:
Category:
Keywords: descampado,mapa de cobertura,cobertura vegetal
AntialiasingMode: Fast
TextAntialiasingMode: Force
Supports Dynamic Layers: true
Resampling: false
MaxRecordCount: 2000
MaxSelectionCount: 2000
MaxImageHeight: 4096
MaxImageWidth: 4096
Supported Query Formats: JSON, geoJSON, PBF
Supports Query Data Elements: true
Min Scale: 577790.554289
Max Scale: 18055.954822
Min LOD: 11
Max LOD: 15
Supports Datum Transformation: true
Child Resources:
Info
Dynamic Layer
Supported Operations:
Export Map
Identify
QueryLegends
QueryDomains
Find
Return Updates